BEGIN:VCALENDAR
VERSION:2.0
PRODID:-//ical.marudot.com//iCal Event Maker
CALSCALE:GREGORIAN
BEGIN:VTIMEZONE
TZID:Europe/Berlin
LAST-MODIFIED:20240422T053451Z
TZURL:https://www.tzurl.org/zoneinfo-outlook/Europe/Berlin
X-LIC-LOCATION:Europe/Berlin
BEGIN:DAYLIGHT
TZNAME:CEST
TZOFFSETFROM:+0100
TZOFFSETTO:+0200
DTSTART:19700329T020000
RRULE:FREQ=YEARLY;BYMONTH=3;BYDAY=-1SU
END:DAYLIGHT
BEGIN:STANDARD
TZNAME:CET
TZOFFSETFROM:+0200
TZOFFSETTO:+0100
DTSTART:19701025T030000
RRULE:FREQ=YEARLY;BYMONTH=10;BYDAY=-1SU
END:STANDARD
END:VTIMEZONE
BEGIN:VEVENT
DTSTAMP:20250922T161409Z
UID:1758557549135-18715@ical.marudot.com
DTSTART;TZID=Europe/Berlin:20260822T150000
DTEND;TZID=Europe/Berlin:20260829T120000
SUMMARY:Chadaina 2026
URL:https://www.chadaina.ch
DESCRIPTION:Samstag\, 22.8.2026 	Individuelle Anreise der Teilnehmer nach Vransko (Slowenien). Ankunft\, Gruppen-Einteilung und Check-In zwischen 15.00 Uhr und 17.00 Uhr\nSonntag\, 23.8.2026 	Tourenfahrt in der Gruppe\nMontag 24.8.2026 	Tourenfahrt in der Gruppe\nDienstag 25.8.2026 	Tourenfahrt in der Gruppe\nMittwoch\, 26.8.2026 	Tourenfahrt in der Gruppe\nDonnerstag\, 27.8.2026 	Tourenfahrt in der Gruppe\nFreitag\, 28.8.2026 	Tourenfahrt in der Gruppe\nSamstag\, 29.8.2026 	Check-Out in Vransko (Slowenien) und Abreise individuell\n	*: witterungsbedingte Änderungen möglich 
LOCATION:Hotel Grof\, Vransko
TRANSP:OPAQUE
X-MICROSOFT-CDO-BUSYSTATUS:OOF
CLASS:PRIVATE
BEGIN:VALARM
ACTION:DISPLAY
DESCRIPTION:Chadaina 2026
TRIGGER:-P1W
END:VALARM
END:VEVENT
END:VCALENDAR